BEGIN:VCALENDAR
VERSION:2.0
PRODID:-//ChamberMaster//Event Calendar 2.0//EN
METHOD:PUBLISH
X-PUBLISHED-TTL:P1H
REFRESH-INTERVAL:P1H
CALSCALE:GREGORIAN
BEGIN:VTIMEZONE
TZID:America/Denver
BEGIN:DAYLIGHT
RRULE:FREQ=YEARLY;BYMONTH=3;BYDAY=2SU
DTSTART:20070101T000000
TZOFFSETFROM:-0700
TZOFFSETTO:-0600
TZNAME:Mountain Daylight Time
END:DAYLIGHT
BEGIN:STANDARD
RRULE:FREQ=YEARLY;BYMONTH=11;BYDAY=1SU
DTSTART:20070101T000000
TZOFFSETFROM:-0600
TZOFFSETTO:-0700
TZNAME:Mountain Standard Time
END:STANDARD
END:VTIMEZONE
BEGIN:VEVENT
DTSTART;TZID=America/Denver:20260508T120000
DTEND;TZID=America/Denver:20260508T130000
X-MICROSOFT-CDO-ALLDAYEVENT:FALSE
SUMMARY:Ribbon Cutting: Mountain View Comprehensive Medicine
DESCRIPTION:Celebrate the grand opening of Mountain View Comprehensive Medicine with a special ribbon cutting event marking the beginning of a new approach to whole-person care. Meet provider Taylor Baskin\, PA-C\, and explore how traditional and natural medicine come together to support your health and wellness.
X-ALT-DESC;FMTTYPE=text/html:Celebrate the grand opening of Mountain View Comprehensive Medicine with a special ribbon cutting event marking the beginning of a new approach to whole-person care. Meet provider Taylor Baskin\, PA-C\, and explore how traditional and natural medicine come together to support your health and wellness.
LOCATION:1575 N 4th St Suite 101 Laramie WY 82072
UID:e.4458.1443947
SEQUENCE:3
DTSTAMP:20260422T190535Z
URL:https://members.laramie.org/lcbaevents/Details/ribbon-cutting-mountain-view-comprehensive-medicine-1710226?sourceTypeId=Hub
END:VEVENT
END:VCALENDAR
