BEGIN:VCALENDAR
VERSION:2.0
PRODID:-//ChamberMaster//Event Calendar 2.0//EN
METHOD:PUBLISH
X-PUBLISHED-TTL:P1H
REFRESH-INTERVAL:P1H
CALSCALE:GREGORIAN
BEGIN:VTIMEZONE
TZID:America/Denver
BEGIN:DAYLIGHT
RRULE:FREQ=YEARLY;BYMONTH=3;BYDAY=2SU
DTSTART:20070101T000000
TZOFFSETFROM:-0700
TZOFFSETTO:-0600
TZNAME:Mountain Daylight Time
END:DAYLIGHT
BEGIN:STANDARD
RRULE:FREQ=YEARLY;BYMONTH=11;BYDAY=1SU
DTSTART:20070101T000000
TZOFFSETFROM:-0600
TZOFFSETTO:-0700
TZNAME:Mountain Standard Time
END:STANDARD
END:VTIMEZONE
BEGIN:VEVENT
DTSTART;TZID=America/Denver:20260414T113000
DTEND;TZID=America/Denver:20260414T130000
X-MICROSOFT-CDO-ALLDAYEVENT:FALSE
SUMMARY:Leadership Luncheon Series: April 2026
DESCRIPTION:Secure your SPOT today!
X-ALT-DESC;FMTTYPE=text/html:<!DOCTYPE html><html><head><title></title></head><body aria-disabled="false"><p>Secure your <a fr-original-style="" href="https://docs.google.com/forms/d/e/1FAIpQLScC5og9V0Y2ScT_39A-GIqzLfSuDHwRTOYPi1NWotrbMZhtcQ/viewform" style="user-select: auto\;"><strong fr-original-style="" style="font-weight: 700\;">SPOT </strong></a>today!</p></body></html>
LOCATION:2374 W Jefferson St Laramie 82070
UID:e.4458.1417181
SEQUENCE:3
DTSTAMP:20260422T190535Z
URL:https://members.laramie.org/lcbaevents/Details/leadership-luncheon-series-april-2026-1675179?sourceTypeId=Hub
END:VEVENT
END:VCALENDAR
