BEGIN:VCALENDAR
VERSION:2.0
PRODID:-//ChamberMaster//Event Calendar 2.0//EN
METHOD:PUBLISH
X-PUBLISHED-TTL:P1H
REFRESH-INTERVAL:P1H
CALSCALE:GREGORIAN
BEGIN:VTIMEZONE
TZID:America/Denver
BEGIN:DAYLIGHT
RRULE:FREQ=YEARLY;BYMONTH=3;BYDAY=2SU
DTSTART:20070101T000000
TZOFFSETFROM:-0700
TZOFFSETTO:-0600
TZNAME:Mountain Daylight Time
END:DAYLIGHT
BEGIN:STANDARD
RRULE:FREQ=YEARLY;BYMONTH=11;BYDAY=1SU
DTSTART:20070101T000000
TZOFFSETFROM:-0600
TZOFFSETTO:-0700
TZNAME:Mountain Standard Time
END:STANDARD
END:VTIMEZONE
BEGIN:VEVENT
DTSTART;TZID=America/Denver:20260415T120000
DTEND;TZID=America/Denver:20260415T130000
X-MICROSOFT-CDO-ALLDAYEVENT:FALSE
SUMMARY:LCBA Launch Luncheon: Ironforge Automations
DESCRIPTION:Join us for an insightful session with Ironforge Automations as we explore the transformative power of artificial intelligence in modern businesses. Discover practical strategies for integrating AI tools into your workflows\, enhancing efficiency\, and unlocking new opportunities for growth. Learn how to make AI work for your business not just as a buzzword but as a tangible tool that improves decision making\, automates repetitive tasks\, and adds real value to your operations. Whether you are just starting with AI or looking to optimize existing systems\, this session will provide actionable insights you can implement immediately.
X-ALT-DESC;FMTTYPE=text/html:<!DOCTYPE html><html><head><title></title></head><body aria-disabled="false"><p data-end="762" data-start="125">Join us for an insightful session with Ironforge Automations as we explore the transformative power of artificial intelligence in modern businesses. Discover practical strategies for integrating AI tools into your workflows\, enhancing efficiency\, and unlocking new opportunities for growth. Learn how to make AI work for your business not just as a buzzword but as a tangible tool that improves decision making\, automates repetitive tasks\, and adds real value to your operations. Whether you are just starting with AI or looking to optimize existing systems\, this session will provide actionable insights you can implement immediately.</p></body></html>
LOCATION:2208 East Grand Avenue Laramie WY 82070
UID:e.4458.1424107
SEQUENCE:3
DTSTAMP:20260422T190459Z
URL:https://members.laramie.org/lcbaevents/Details/lcba-launch-luncheon-ironforge-automations-1683787?sourceTypeId=Hub
END:VEVENT
END:VCALENDAR
