BEGIN:VCALENDAR
VERSION:2.0
PRODID:-//ChamberMaster//Event Calendar 2.0//EN
METHOD:PUBLISH
X-PUBLISHED-TTL:P1H
REFRESH-INTERVAL:P1H
CALSCALE:GREGORIAN
BEGIN:VTIMEZONE
TZID:America/Denver
BEGIN:DAYLIGHT
RRULE:FREQ=YEARLY;BYMONTH=3;BYDAY=2SU
DTSTART:20070101T000000
TZOFFSETFROM:-0700
TZOFFSETTO:-0600
TZNAME:Mountain Daylight Time
END:DAYLIGHT
BEGIN:STANDARD
RRULE:FREQ=YEARLY;BYMONTH=11;BYDAY=1SU
DTSTART:20070101T000000
TZOFFSETFROM:-0600
TZOFFSETTO:-0700
TZNAME:Mountain Standard Time
END:STANDARD
END:VTIMEZONE
BEGIN:VEVENT
DTSTART;TZID=America/Denver:20260402T110000
DTEND;TZID=America/Denver:20260402T140000
X-MICROSOFT-CDO-ALLDAYEVENT:FALSE
SUMMARY:Laramie Young Professionals: Volunteer Fair
DESCRIPTION:The Laramie Young Professionals Volunteer Fair connects community members with local nonprofits that are making a difference in Albany County. With more than 30 organizations participating\, the event provides an opportunity to learn about volunteer roles\, board service opportunities\, and other ways to get involved in the community.\n\nAttendees can meet nonprofit leaders\, explore causes that align with their interests\, and discover meaningful ways to give back while building connections with other community members and young professionals. Whether looking to volunteer occasionally or take on a larger leadership role\, the Volunteer Fair highlights a variety of ways to support organizations that strengthen Laramie.\n\nThis event is free and open to the public.
X-ALT-DESC;FMTTYPE=text/html:The Laramie Young Professionals Volunteer Fair connects community members with local nonprofits that are making a difference in Albany County. With more than 30 organizations participating\, the event provides an opportunity to learn about volunteer roles\, board service opportunities\, and other ways to get involved in the community.\n\nAttendees can meet nonprofit leaders\, explore causes that align with their interests\, and discover meaningful ways to give back while building connections with other community members and young professionals. Whether looking to volunteer occasionally or take on a larger leadership role\, the Volunteer Fair highlights a variety of ways to support organizations that strengthen Laramie.\n\nThis event is free and open to the public.
LOCATION:710 E Garfield St Laramie 82070
UID:e.4458.1416259
SEQUENCE:3
DTSTAMP:20260422T190601Z
URL:https://members.laramie.org/lcbaevents/Details/laramie-young-professionals-volunteer-fair-1673858?sourceTypeId=Hub
END:VEVENT
END:VCALENDAR
