BEGIN:VCALENDAR
VERSION:2.0
PRODID:-//ChamberMaster//Event Calendar 2.0//EN
METHOD:PUBLISH
X-PUBLISHED-TTL:P1H
REFRESH-INTERVAL:P1H
CALSCALE:GREGORIAN
BEGIN:VTIMEZONE
TZID:America/Denver
BEGIN:DAYLIGHT
RRULE:FREQ=YEARLY;BYMONTH=3;BYDAY=2SU
DTSTART:20070101T000000
TZOFFSETFROM:-0700
TZOFFSETTO:-0600
TZNAME:Mountain Daylight Time
END:DAYLIGHT
BEGIN:STANDARD
RRULE:FREQ=YEARLY;BYMONTH=11;BYDAY=1SU
DTSTART:20070101T000000
TZOFFSETFROM:-0600
TZOFFSETTO:-0700
TZNAME:Mountain Standard Time
END:STANDARD
END:VTIMEZONE
BEGIN:VEVENT
DTSTART;TZID=America/Denver:20260415T173000
DTEND;TZID=America/Denver:20260415T190000
X-MICROSOFT-CDO-ALLDAYEVENT:FALSE
SUMMARY:Laramie Young Professionals: Cocktails & Connection
DESCRIPTION:Join us on April 15th for Cocktails & Conversation\, our monthly networking event\, made extra special as it also serves as our LYP Annual Meeting this month!\nConnect with fellow young professionals in a relaxed setting while enjoying great drinks\, meaningful conversation\, and updates on the year behind us and what’s ahead.\nWhether you’re a regular or attending for the first time\, this is a great opportunity to get involved and stay connected.
X-ALT-DESC;FMTTYPE=text/html:Join us on April 15th for Cocktails & Conversation\, our monthly networking event\, made extra special as it also serves as our LYP Annual Meeting this month!\nConnect with fellow young professionals in a relaxed setting while enjoying great drinks\, meaningful conversation\, and updates on the year behind us and what’s ahead.\nWhether you’re a regular or attending for the first time\, this is a great opportunity to get involved and stay connected.
LOCATION:220 Grand Ave Laramie WY 82070
UID:e.4458.1442802
SEQUENCE:3
DTSTAMP:20260422T191303Z
URL:https://members.laramie.org/lcbaevents/Details/laramie-young-professionals-cocktails-connection-1708921?sourceTypeId=Hub
END:VEVENT
END:VCALENDAR
