BEGIN:VCALENDAR
VERSION:2.0
PRODID:-//ChamberMaster//Event Calendar 2.0//EN
METHOD:PUBLISH
X-PUBLISHED-TTL:P1H
REFRESH-INTERVAL:P1H
CALSCALE:GREGORIAN
BEGIN:VTIMEZONE
TZID:America/Denver
BEGIN:DAYLIGHT
RRULE:FREQ=YEARLY;BYMONTH=3;BYDAY=2SU
DTSTART:20070101T000000
TZOFFSETFROM:-0700
TZOFFSETTO:-0600
TZNAME:Mountain Daylight Time
END:DAYLIGHT
BEGIN:STANDARD
RRULE:FREQ=YEARLY;BYMONTH=11;BYDAY=1SU
DTSTART:20070101T000000
TZOFFSETFROM:-0600
TZOFFSETTO:-0700
TZNAME:Mountain Standard Time
END:STANDARD
END:VTIMEZONE
BEGIN:VEVENT
DTSTART;TZID=America/Denver:20260514T163000
DTEND;TZID=America/Denver:20260514T180000
X-MICROSOFT-CDO-ALLDAYEVENT:FALSE
SUMMARY:Business After Hours: Hits 106
DESCRIPTION:Join us for an evening of networking and connections at our Business After Hours event! To ensure a smooth check-in process and access to exclusive perks like raffle tickets and/or drink tickets (if offered)\, we ask that all attendees register in advance or at the event. Don't miss this opportunity to connect with fellow professionals and community members. We can't wait to see you there!
X-ALT-DESC;FMTTYPE=text/html:<!DOCTYPE html><html><head><title></title></head><body aria-disabled="false"><p>Join us for an evening of networking and connections at our Business After Hours event! To ensure a smooth check-in process and access to exclusive perks like raffle tickets and/or drink tickets (if offered)\, we ask that all attendees register in advance or at the event. Don&rsquo\;t miss this opportunity to connect with fellow professionals and community members. We can&rsquo\;t wait to see you there!</p></body></html>
LOCATION:413 Garfield St. LARAMIE WY 82072
UID:e.4458.1443024
SEQUENCE:3
DTSTAMP:20260422T190456Z
URL:https://members.laramie.org/lcbaevents/Details/business-after-hours-hits-106-1709132?sourceTypeId=Hub
END:VEVENT
END:VCALENDAR
